Package: CellaRepertorium Version: 1.10.0 Command: /home/biocbuild/bbs-3.17-bioc/R/bin/R CMD check --install=check:CellaRepertorium.install-out.txt --library=/home/biocbuild/bbs-3.17-bioc/R/site-library --timings CellaRepertorium_1.10.0.tar.gz StartedAt: 2023-10-15 19:54:54 -0400 (Sun, 15 Oct 2023) EndedAt: 2023-10-15 19:58:29 -0400 (Sun, 15 Oct 2023) EllapsedTime: 215.0 seconds RetCode: 0 Status: WARNINGS CheckDir: CellaRepertorium.Rcheck Warnings: 1