Package: CellaRepertorium Version: 1.10.0 Command: /Library/Frameworks/R.framework/Resources/bin/R CMD INSTALL CellaRepertorium StartedAt: 2023-10-15 15:16:10 -0400 (Sun, 15 Oct 2023) EndedAt: 2023-10-15 15:18:34 -0400 (Sun, 15 Oct 2023) EllapsedTime: 143.4 seconds RetCode: 0 Status: OK