Package: CellScore Version: 1.20.0 Command: chmod a+r CellScore -R && F:\biocbuild\bbs-3.17-bioc\R\bin\R.exe CMD build --keep-empty-dirs --no-resave-data CellScore StartedAt: 2023-10-15 17:59:26 -0400 (Sun, 15 Oct 2023) EndedAt: 2023-10-15 18:02:06 -0400 (Sun, 15 Oct 2023) EllapsedTime: 160.7 seconds RetCode: 0 Status: OK PackageFile: CellScore_1.20.0.tar.gz PackageFileSize: 4.175 MiB