Package: CellScore Version: 1.20.0 Command: /home/biocbuild/bbs-3.17-bioc/R/bin/R CMD build --keep-empty-dirs --no-resave-data CellScore StartedAt: 2023-10-15 16:14:49 -0400 (Sun, 15 Oct 2023) EndedAt: 2023-10-15 16:17:08 -0400 (Sun, 15 Oct 2023) EllapsedTime: 139.0 seconds RetCode: 0 Status: OK PackageFile: CellScore_1.20.0.tar.gz PackageFileSize: 4.174 MiB