Package: CellNOptR Version: 1.46.0 Command: chmod a+r CellNOptR -R && F:\biocbuild\bbs-3.17-bioc\R\bin\R.exe CMD build --keep-empty-dirs --no-resave-data CellNOptR StartedAt: 2023-10-15 17:59:13 -0400 (Sun, 15 Oct 2023) EndedAt: 2023-10-15 17:59:54 -0400 (Sun, 15 Oct 2023) EllapsedTime: 41.0 seconds RetCode: 0 Status: OK PackageFile: CellNOptR_1.46.0.tar.gz PackageFileSize: 3.262 MiB