Package: CellNOptR Version: 1.46.0 Command: /home/biocbuild/bbs-3.17-bioc/R/bin/R CMD INSTALL CellNOptR StartedAt: 2023-10-15 15:26:18 -0400 (Sun, 15 Oct 2023) EndedAt: 2023-10-15 15:26:34 -0400 (Sun, 15 Oct 2023) EllapsedTime: 15.3 seconds RetCode: 0 Status: OK