Package: CellNOptR Version: 1.46.0 Command: /Library/Frameworks/R.framework/Resources/bin/R CMD build --keep-empty-dirs --no-resave-data CellNOptR StartedAt: 2023-10-15 17:17:21 -0400 (Sun, 15 Oct 2023) EndedAt: 2023-10-15 17:18:25 -0400 (Sun, 15 Oct 2023) EllapsedTime: 63.7 seconds RetCode: 0 Status: OK PackageFile: CellNOptR_1.46.0.tar.gz PackageFileSize: 3.491 MiB