Package: CellMixS Version: 1.16.0 Command: /home/biocbuild/bbs-3.17-bioc/R/bin/R CMD check --install=check:CellMixS.install-out.txt --library=/home/biocbuild/bbs-3.17-bioc/R/site-library --timings CellMixS_1.16.0.tar.gz StartedAt: 2023-10-15 19:57:23 -0400 (Sun, 15 Oct 2023) EndedAt: 2023-10-15 20:03:59 -0400 (Sun, 15 Oct 2023) EllapsedTime: 396.3 seconds RetCode: 0 Status: OK CheckDir: CellMixS.Rcheck Warnings: 0