Package: CellMapper Version: 1.26.0 Command: F:\biocbuild\bbs-3.17-bioc\R\bin\R.exe CMD INSTALL CellMapper StartedAt: 2023-10-15 15:51:50 -0400 (Sun, 15 Oct 2023) EndedAt: 2023-10-15 15:52:02 -0400 (Sun, 15 Oct 2023) EllapsedTime: 11.5 seconds RetCode: 0 Status: OK