Package: CellMapper Version: 1.26.0 Command: chmod a+r CellMapper -R && F:\biocbuild\bbs-3.17-bioc\R\bin\R.exe CMD build --keep-empty-dirs --no-resave-data CellMapper StartedAt: 2023-10-15 17:58:36 -0400 (Sun, 15 Oct 2023) EndedAt: 2023-10-15 18:23:25 -0400 (Sun, 15 Oct 2023) EllapsedTime: 1489.8 seconds RetCode: 0 Status: OK PackageFile: CellMapper_1.26.0.tar.gz PackageFileSize: 207.2 KiB