Package: CellMapper Version: 1.26.0 Command: /Library/Frameworks/R.framework/Resources/bin/R CMD INSTALL CellMapper StartedAt: 2023-10-15 15:07:35 -0400 (Sun, 15 Oct 2023) EndedAt: 2023-10-15 15:08:15 -0400 (Sun, 15 Oct 2023) EllapsedTime: 40.3 seconds RetCode: 0 Status: OK