Package: CellMapper Version: 1.26.0 Command: /Library/Frameworks/R.framework/Resources/bin/R CMD check --install=check:CellMapper.install-out.txt --library=/Library/Frameworks/R.framework/Resources/library --no-vignettes --timings CellMapper_1.26.0.tar.gz StartedAt: 2023-10-15 23:33:11 -0400 (Sun, 15 Oct 2023) EndedAt: 2023-10-15 23:39:19 -0400 (Sun, 15 Oct 2023) EllapsedTime: 368.4 seconds RetCode: 0 Status: WARNINGS CheckDir: CellMapper.Rcheck Warnings: 1