Package: CellMapper Version: 1.26.0 Command: rm -rf CellMapper.buildbin-libdir && mkdir CellMapper.buildbin-libdir && /Users/biocbuild/BBS/utils/build-universal.sh CellMapper_1.26.0.tar.gz /Library/Frameworks/R.framework/Resources/bin/R CellMapper.buildbin-libdir StartedAt: 2023-10-16 09:06:20 -0400 (Mon, 16 Oct 2023) EndedAt: 2023-10-16 09:06:38 -0400 (Mon, 16 Oct 2023) EllapsedTime: 17.3 seconds RetCode: 0 Status: OK PackageFile: CellMapper_1.26.0.tgz PackageFileSize: 349.7 KiB