Package: CellBench Version: 1.16.0 Command: chmod a+r CellBench -R && F:\biocbuild\bbs-3.17-bioc\R\bin\R.exe CMD build --keep-empty-dirs --no-resave-data CellBench StartedAt: 2023-10-15 17:57:31 -0400 (Sun, 15 Oct 2023) EndedAt: 2023-10-15 17:58:35 -0400 (Sun, 15 Oct 2023) EllapsedTime: 63.2 seconds RetCode: 0 Status: OK PackageFile: CellBench_1.16.0.tar.gz PackageFileSize: 2.942 MiB