Package: CellBench Version: 1.16.0 Command: /home/biocbuild/bbs-3.17-bioc/R/bin/R CMD build --keep-empty-dirs --no-resave-data CellBench StartedAt: 2023-10-15 16:13:27 -0400 (Sun, 15 Oct 2023) EndedAt: 2023-10-15 16:14:18 -0400 (Sun, 15 Oct 2023) EllapsedTime: 50.6 seconds RetCode: 0 Status: OK PackageFile: CellBench_1.16.0.tar.gz PackageFileSize: 2.992 MiB