Package: CeTF Version: 1.12.0 Command: F:\biocbuild\bbs-3.17-bioc\R\bin\R.exe CMD INSTALL CeTF StartedAt: 2023-10-15 16:59:01 -0400 (Sun, 15 Oct 2023) EndedAt: 2023-10-15 17:00:15 -0400 (Sun, 15 Oct 2023) EllapsedTime: 74.4 seconds RetCode: 0 Status: OK