Package: CeTF Version: 1.12.0 Command: chmod a+r CeTF -R && F:\biocbuild\bbs-3.17-bioc\R\bin\R.exe CMD build --keep-empty-dirs --no-resave-data CeTF StartedAt: 2023-10-15 18:00:45 -0400 (Sun, 15 Oct 2023) EndedAt: 2023-10-15 18:03:58 -0400 (Sun, 15 Oct 2023) EllapsedTime: 192.3 seconds RetCode: 0 Status: OK PackageFile: CeTF_1.12.0.tar.gz PackageFileSize: 2.86 MiB