Package: CeTF Version: 1.12.0 Command: /home/biocbuild/bbs-3.17-bioc/R/bin/R CMD INSTALL CeTF StartedAt: 2023-10-15 15:46:08 -0400 (Sun, 15 Oct 2023) EndedAt: 2023-10-15 15:47:06 -0400 (Sun, 15 Oct 2023) EllapsedTime: 58.3 seconds RetCode: 0 Status: OK