Package: CeTF Version: 1.12.0 Command: /home/biocbuild/bbs-3.17-bioc/R/bin/R CMD check --install=check:CeTF.install-out.txt --library=/home/biocbuild/bbs-3.17-bioc/R/site-library --timings CeTF_1.12.0.tar.gz StartedAt: 2023-10-15 19:58:43 -0400 (Sun, 15 Oct 2023) EndedAt: 2023-10-15 20:05:24 -0400 (Sun, 15 Oct 2023) EllapsedTime: 400.4 seconds RetCode: 0 Status: OK CheckDir: CeTF.Rcheck Warnings: 0