Package: CeTF Version: 1.12.0 Command: /home/biocbuild/bbs-3.17-bioc/R/bin/R CMD build --keep-empty-dirs --no-resave-data CeTF StartedAt: 2023-10-15 16:15:11 -0400 (Sun, 15 Oct 2023) EndedAt: 2023-10-15 16:17:55 -0400 (Sun, 15 Oct 2023) EllapsedTime: 163.3 seconds RetCode: 0 Status: OK PackageFile: CeTF_1.12.0.tar.gz PackageFileSize: 3.723 MiB