Package: CeTF Version: 1.12.0 Command: /Library/Frameworks/R.framework/Resources/bin/R CMD check --install=check:CeTF.install-out.txt --library=/Library/Frameworks/R.framework/Resources/library --no-vignettes --timings CeTF_1.12.0.tar.gz StartedAt: 2023-10-15 23:38:54 -0400 (Sun, 15 Oct 2023) EndedAt: 2023-10-15 23:51:11 -0400 (Sun, 15 Oct 2023) EllapsedTime: 736.9 seconds RetCode: 0 Status: OK CheckDir: CeTF.Rcheck Warnings: 0