Package: CeTF Version: 1.12.0 Command: /Library/Frameworks/R.framework/Resources/bin/R CMD build --keep-empty-dirs --no-resave-data CeTF StartedAt: 2023-10-15 17:19:13 -0400 (Sun, 15 Oct 2023) EndedAt: 2023-10-15 17:25:43 -0400 (Sun, 15 Oct 2023) EllapsedTime: 389.3 seconds RetCode: 0 Status: OK PackageFile: CeTF_1.12.0.tar.gz PackageFileSize: 3.769 MiB