Package: CausalR Version: 1.32.0 Command: /home/biocbuild/bbs-3.17-bioc/R/bin/R CMD build --keep-empty-dirs --no-resave-data CausalR StartedAt: 2023-10-15 16:12:13 -0400 (Sun, 15 Oct 2023) EndedAt: 2023-10-15 16:12:41 -0400 (Sun, 15 Oct 2023) EllapsedTime: 27.2 seconds RetCode: 0 Status: OK PackageFile: CausalR_1.32.0.tar.gz PackageFileSize: 573.7 KiB