Package: Cardinal Version: 3.2.1 Command: rm -rf Cardinal.buildbin-libdir && mkdir Cardinal.buildbin-libdir && F:\biocbuild\bbs-3.17-bioc\R\bin\R.exe CMD INSTALL --build --library=Cardinal.buildbin-libdir Cardinal_3.2.1.tar.gz StartedAt: 2023-10-16 08:31:51 -0400 (Mon, 16 Oct 2023) EndedAt: 2023-10-16 08:33:13 -0400 (Mon, 16 Oct 2023) EllapsedTime: 81.9 seconds RetCode: 0 Status: OK PackageFile: Cardinal_3.2.1.zip PackageFileSize: 3.232 MiB