Package: CancerInSilico Version: 2.20.0 Command: F:\biocbuild\bbs-3.17-bioc\R\bin\R.exe CMD INSTALL CancerInSilico StartedAt: 2023-10-15 15:49:23 -0400 (Sun, 15 Oct 2023) EndedAt: 2023-10-15 15:51:26 -0400 (Sun, 15 Oct 2023) EllapsedTime: 122.9 seconds RetCode: 0 Status: OK