Package: CancerInSilico Version: 2.20.0 Command: chmod a+r CancerInSilico -R && F:\biocbuild\bbs-3.17-bioc\R\bin\R.exe CMD build --keep-empty-dirs --no-resave-data CancerInSilico StartedAt: 2023-10-15 17:53:57 -0400 (Sun, 15 Oct 2023) EndedAt: 2023-10-15 17:55:48 -0400 (Sun, 15 Oct 2023) EllapsedTime: 111.2 seconds RetCode: 0 Status: OK PackageFile: CancerInSilico_2.20.0.tar.gz PackageFileSize: 1.761 MiB