Package: CancerInSilico Version: 2.20.0 Command: rm -rf CancerInSilico.buildbin-libdir && mkdir CancerInSilico.buildbin-libdir && F:\biocbuild\bbs-3.17-bioc\R\bin\R.exe CMD INSTALL --build --library=CancerInSilico.buildbin-libdir CancerInSilico_2.20.0.tar.gz StartedAt: 2023-10-16 08:31:46 -0400 (Mon, 16 Oct 2023) EndedAt: 2023-10-16 08:33:50 -0400 (Mon, 16 Oct 2023) EllapsedTime: 124.3 seconds RetCode: 0 Status: OK PackageFile: CancerInSilico_2.20.0.zip PackageFileSize: 2.411 MiB