Package: CancerInSilico Version: 2.20.0 Command: /home/biocbuild/bbs-3.17-bioc/R/bin/R CMD build --keep-empty-dirs --no-resave-data CancerInSilico StartedAt: 2023-10-15 16:11:24 -0400 (Sun, 15 Oct 2023) EndedAt: 2023-10-15 16:11:39 -0400 (Sun, 15 Oct 2023) EllapsedTime: 15.3 seconds RetCode: 1 Status: ERROR PackageFile: None PackageFileSize: NA