Package: CancerInSilico Version: 2.20.0 Command: /Library/Frameworks/R.framework/Resources/bin/R CMD INSTALL CancerInSilico StartedAt: 2023-10-15 15:05:18 -0400 (Sun, 15 Oct 2023) EndedAt: 2023-10-15 15:07:50 -0400 (Sun, 15 Oct 2023) EllapsedTime: 152.0 seconds RetCode: 0 Status: OK