Package: CancerInSilico Version: 2.20.0 Command: /Library/Frameworks/R.framework/Resources/bin/R CMD build --keep-empty-dirs --no-resave-data CancerInSilico StartedAt: 2023-10-15 17:12:16 -0400 (Sun, 15 Oct 2023) EndedAt: 2023-10-15 17:15:57 -0400 (Sun, 15 Oct 2023) EllapsedTime: 221.2 seconds RetCode: 0 Status: OK PackageFile: CancerInSilico_2.20.0.tar.gz PackageFileSize: 2.308 MiB