Package: CancerInSilico Version: 2.20.0 Command: rm -rf CancerInSilico.buildbin-libdir && mkdir CancerInSilico.buildbin-libdir && /Users/biocbuild/BBS/utils/build-universal.sh CancerInSilico_2.20.0.tar.gz /Library/Frameworks/R.framework/Resources/bin/R CancerInSilico.buildbin-libdir StartedAt: 2023-10-16 09:05:09 -0400 (Mon, 16 Oct 2023) EndedAt: 2023-10-16 09:09:53 -0400 (Mon, 16 Oct 2023) EllapsedTime: 283.6 seconds RetCode: 0 Status: OK PackageFile: CancerInSilico_2.20.0.tgz PackageFileSize: 2.676 MiB