Package: CTSV Version: 1.2.0 Command: F:\biocbuild\bbs-3.17-bioc\R\bin\R.exe CMD INSTALL CTSV StartedAt: 2023-10-15 16:16:09 -0400 (Sun, 15 Oct 2023) EndedAt: 2023-10-15 16:16:44 -0400 (Sun, 15 Oct 2023) EllapsedTime: 34.7 seconds RetCode: 0 Status: OK