Package: CTSV Version: 1.2.0 Command: rm -rf CTSV.buildbin-libdir && mkdir CTSV.buildbin-libdir && F:\biocbuild\bbs-3.17-bioc\R\bin\R.exe CMD INSTALL --build --library=CTSV.buildbin-libdir CTSV_1.2.0.tar.gz StartedAt: 2023-10-16 08:39:16 -0400 (Mon, 16 Oct 2023) EndedAt: 2023-10-16 08:39:55 -0400 (Mon, 16 Oct 2023) EllapsedTime: 39.6 seconds RetCode: 0 Status: OK PackageFile: CTSV_1.2.0.zip PackageFileSize: 325.6 KiB