Package: CTSV Version: 1.2.0 Command: /home/biocbuild/bbs-3.17-bioc/R/bin/R CMD check --install=check:CTSV.install-out.txt --library=/home/biocbuild/bbs-3.17-bioc/R/site-library --timings CTSV_1.2.0.tar.gz StartedAt: 2023-10-15 20:30:53 -0400 (Sun, 15 Oct 2023) EndedAt: 2023-10-15 20:34:44 -0400 (Sun, 15 Oct 2023) EllapsedTime: 231.3 seconds RetCode: 0 Status: OK CheckDir: CTSV.Rcheck Warnings: 0