Package: CTSV Version: 1.2.0 Command: /Library/Frameworks/R.framework/Resources/bin/R CMD build --keep-empty-dirs --no-resave-data CTSV StartedAt: 2023-10-15 17:43:48 -0400 (Sun, 15 Oct 2023) EndedAt: 2023-10-15 17:46:07 -0400 (Sun, 15 Oct 2023) EllapsedTime: 138.6 seconds RetCode: 0 Status: OK PackageFile: CTSV_1.2.0.tar.gz PackageFileSize: 303.6 KiB