Package: CTSV Version: 1.2.0 Command: rm -rf CTSV.buildbin-libdir && mkdir CTSV.buildbin-libdir && /Users/biocbuild/BBS/utils/build-universal.sh CTSV_1.2.0.tar.gz /Library/Frameworks/R.framework/Resources/bin/R CTSV.buildbin-libdir StartedAt: 2023-10-16 09:13:56 -0400 (Mon, 16 Oct 2023) EndedAt: 2023-10-16 09:15:35 -0400 (Mon, 16 Oct 2023) EllapsedTime: 98.3 seconds RetCode: 0 Status: OK PackageFile: CTSV_1.2.0.tgz PackageFileSize: 320.8 KiB