Package: CSSQ Version: 1.12.1 Command: F:\biocbuild\bbs-3.17-bioc\R\bin\R.exe CMD INSTALL CSSQ StartedAt: 2023-10-15 16:23:51 -0400 (Sun, 15 Oct 2023) EndedAt: 2023-10-15 16:24:29 -0400 (Sun, 15 Oct 2023) EllapsedTime: 38.6 seconds RetCode: 0 Status: OK