Package: CSSQ Version: 1.12.1 Command: chmod a+r CSSQ -R && F:\biocbuild\bbs-3.17-bioc\R\bin\R.exe CMD build --keep-empty-dirs --no-resave-data CSSQ StartedAt: 2023-10-15 18:26:46 -0400 (Sun, 15 Oct 2023) EndedAt: 2023-10-15 18:29:58 -0400 (Sun, 15 Oct 2023) EllapsedTime: 191.7 seconds RetCode: 0 Status: OK PackageFile: CSSQ_1.12.1.tar.gz PackageFileSize: 865.8 KiB