Package: CSSQ Version: 1.12.1 Command: /home/biocbuild/bbs-3.17-bioc/R/bin/R CMD INSTALL CSSQ StartedAt: 2023-10-15 15:22:37 -0400 (Sun, 15 Oct 2023) EndedAt: 2023-10-15 15:23:12 -0400 (Sun, 15 Oct 2023) EllapsedTime: 34.5 seconds RetCode: 0 Status: OK