Package: CSSQ Version: 1.12.1 Command: /home/biocbuild/bbs-3.17-bioc/R/bin/R CMD check --install=check:CSSQ.install-out.txt --library=/home/biocbuild/bbs-3.17-bioc/R/site-library --timings CSSQ_1.12.1.tar.gz StartedAt: 2023-10-15 20:30:13 -0400 (Sun, 15 Oct 2023) EndedAt: 2023-10-15 20:34:33 -0400 (Sun, 15 Oct 2023) EllapsedTime: 260.2 seconds RetCode: 0 Status: OK CheckDir: CSSQ.Rcheck Warnings: 0