Package: CSSQ Version: 1.12.1 Command: /home/biocbuild/bbs-3.17-bioc/R/bin/R CMD build --keep-empty-dirs --no-resave-data CSSQ StartedAt: 2023-10-15 16:28:34 -0400 (Sun, 15 Oct 2023) EndedAt: 2023-10-15 16:29:30 -0400 (Sun, 15 Oct 2023) EllapsedTime: 55.8 seconds RetCode: 0 Status: OK PackageFile: CSSQ_1.12.1.tar.gz PackageFileSize: 866.1 KiB