Package: CSSQ Version: 1.12.1 Command: /Library/Frameworks/R.framework/Resources/bin/R CMD INSTALL CSSQ StartedAt: 2023-10-15 15:33:23 -0400 (Sun, 15 Oct 2023) EndedAt: 2023-10-15 15:35:14 -0400 (Sun, 15 Oct 2023) EllapsedTime: 111.3 seconds RetCode: 0 Status: OK