Package: CSSQ Version: 1.12.1 Command: /Library/Frameworks/R.framework/Resources/bin/R CMD check --install=check:CSSQ.install-out.txt --library=/Library/Frameworks/R.framework/Resources/library --no-vignettes --timings CSSQ_1.12.1.tar.gz StartedAt: 2023-10-16 00:26:30 -0400 (Mon, 16 Oct 2023) EndedAt: 2023-10-16 00:36:52 -0400 (Mon, 16 Oct 2023) EllapsedTime: 622.3 seconds RetCode: 0 Status: OK CheckDir: CSSQ.Rcheck Warnings: 0