Package: CSSQ Version: 1.12.1 Command: /Library/Frameworks/R.framework/Resources/bin/R CMD build --keep-empty-dirs --no-resave-data CSSQ StartedAt: 2023-10-15 17:43:21 -0400 (Sun, 15 Oct 2023) EndedAt: 2023-10-15 17:46:00 -0400 (Sun, 15 Oct 2023) EllapsedTime: 158.8 seconds RetCode: 0 Status: OK PackageFile: CSSQ_1.12.1.tar.gz PackageFileSize: 866.1 KiB