Package: CSAR Version: 1.52.0 Command: /home/biocbuild/bbs-3.17-bioc/R/bin/R CMD INSTALL CSAR StartedAt: 2023-10-15 15:11:24 -0400 (Sun, 15 Oct 2023) EndedAt: 2023-10-15 15:11:34 -0400 (Sun, 15 Oct 2023) EllapsedTime: 10.3 seconds RetCode: 0 Status: OK