Package: CRISPRseek Version: 1.40.0 Command: F:\biocbuild\bbs-3.17-bioc\R\bin\R.exe CMD INSTALL CRISPRseek StartedAt: 2023-10-15 16:14:58 -0400 (Sun, 15 Oct 2023) EndedAt: 2023-10-15 16:15:50 -0400 (Sun, 15 Oct 2023) EllapsedTime: 51.4 seconds RetCode: 0 Status: OK