Package: CRISPRseek Version: 1.40.0 Command: chmod a+r CRISPRseek -R && F:\biocbuild\bbs-3.17-bioc\R\bin\R.exe CMD build --keep-empty-dirs --no-resave-data CRISPRseek StartedAt: 2023-10-15 18:25:02 -0400 (Sun, 15 Oct 2023) EndedAt: 2023-10-15 18:28:33 -0400 (Sun, 15 Oct 2023) EllapsedTime: 210.9 seconds RetCode: 0 Status: OK PackageFile: CRISPRseek_1.40.0.tar.gz PackageFileSize: 10.74 MiB