Package: CRISPRseek Version: 1.40.0 Command: rm -rf CRISPRseek.buildbin-libdir && mkdir CRISPRseek.buildbin-libdir && F:\biocbuild\bbs-3.17-bioc\R\bin\R.exe CMD INSTALL --build --library=CRISPRseek.buildbin-libdir CRISPRseek_1.40.0.tar.gz StartedAt: 2023-10-16 08:38:40 -0400 (Mon, 16 Oct 2023) EndedAt: 2023-10-16 08:39:31 -0400 (Mon, 16 Oct 2023) EllapsedTime: 51.3 seconds RetCode: 0 Status: OK PackageFile: CRISPRseek_1.40.0.zip PackageFileSize: 11.03 MiB