Package: CRISPRseek Version: 1.40.0 Command: /home/biocbuild/bbs-3.17-bioc/R/bin/R CMD build --keep-empty-dirs --no-resave-data CRISPRseek StartedAt: 2023-10-15 16:27:30 -0400 (Sun, 15 Oct 2023) EndedAt: 2023-10-15 16:30:14 -0400 (Sun, 15 Oct 2023) EllapsedTime: 164.6 seconds RetCode: 0 Status: OK PackageFile: CRISPRseek_1.40.0.tar.gz PackageFileSize: 10.74 MiB