Package: CRISPRseek Version: 1.40.0 Command: /Library/Frameworks/R.framework/Resources/bin/R CMD check --install=check:CRISPRseek.install-out.txt --library=/Library/Frameworks/R.framework/Resources/library --no-vignettes --timings CRISPRseek_1.40.0.tar.gz StartedAt: 2023-10-16 00:23:47 -0400 (Mon, 16 Oct 2023) EndedAt: 2023-10-16 01:03:48 -0400 (Mon, 16 Oct 2023) EllapsedTime: 2400.2 seconds RetCode: None Status: TIMEOUT CheckDir: CRISPRseek.Rcheck Warnings: NA